BEGIN:VCALENDAR
VERSION:2.0
PRODID:SchoolNow
CALSCALE:GREGORIAN
BEGIN:VEVENT
UID:05274022-a4e2-11e8-a392-0a7adec3ff7c
DTSTAMP:20180917T202336Z
SUMMARY:Soccer Home vs Alden Hebron
URL;VALUE=URI:https://www.gls36.org/calendar/1837307/soccer-home-vs-alden-h
 ebron
DTSTART:20180928T210000Z
DTEND:20180928T220000Z
END:VEVENT
END:VCALENDAR
