BEGIN:VCALENDAR
VERSION:2.0
PRODID:SchoolNow
CALSCALE:GREGORIAN
BEGIN:VEVENT
UID:bef2e23c-a4e1-11e8-bd32-0a7adec3ff7c
DTSTAMP:20180917T202242Z
SUMMARY:Soccer Home vs North Prairie
URL;VALUE=URI:https://www.gls36.org/calendar/1837305/soccer-home-vs-north-p
 rairie
DTSTART:20180921T210000Z
DTEND:20180921T220000Z
END:VEVENT
END:VCALENDAR
