BEGIN:VCALENDAR
VERSION:2.0
PRODID:SchoolNow
CALSCALE:GREGORIAN
BEGIN:VEVENT
UID:e354da86-a4b4-11e8-990f-12db8d10bbee
DTSTAMP:20180820T200904Z
SUMMARY:Volleyball Away at Park
URL;VALUE=URI:https://www.gls36.org/calendar/1837020/volleyball-away-at-par
 k
DTSTART:20180918T210000Z
DTEND:20180918T220000Z
END:VEVENT
END:VCALENDAR
