BEGIN:VCALENDAR
VERSION:2.0
PRODID:SchoolNow
CALSCALE:GREGORIAN
BEGIN:VEVENT
UID:9dd74a84-a4b4-11e8-9a0a-12db8d10bbee
DTSTAMP:20180820T200708Z
SUMMARY:Soccer Away at Park School
URL;VALUE=URI:https://www.gls36.org/calendar/1837017/soccer-away-at-park-sc
 hool
DTSTART:20180918T210000Z
DTEND:20180918T220000Z
END:VEVENT
END:VCALENDAR
