BEGIN:VCALENDAR
VERSION:2.0
PRODID:SchoolNow
CALSCALE:GREGORIAN
BEGIN:VEVENT
UID:3c02d3a0-a4b4-11e8-8c94-12db8d10bbee
DTSTAMP:20180911T161318Z
SUMMARY:Volleyball Away at Stanton
URL;VALUE=URI:https://www.gls36.org/calendar/1837014/volleyball-away-at-sta
 nton
DTSTART:20180913T210000Z
DTEND:20180913T220000Z
END:VEVENT
END:VCALENDAR
