BEGIN:VCALENDAR
VERSION:2.0
PRODID:SchoolNow
CALSCALE:GREGORIAN
BEGIN:VEVENT
UID:10025f6e-a4b4-11e8-a27a-12db8d10bbee
DTSTAMP:20180820T200310Z
SUMMARY:Soccer Away at Stanton
LOCATION:Stanton Middle School
URL;VALUE=URI:https://www.gls36.org/calendar/1837009/soccer-away-at-stanton
DTSTART:20180913T210000Z
DTEND:20180913T220000Z
END:VEVENT
END:VCALENDAR
