BEGIN:VCALENDAR
VERSION:2.0
PRODID:SchoolNow
CALSCALE:GREGORIAN
BEGIN:VEVENT
UID:8ded5196-a4b3-11e8-ab7b-0a6c4d9882a8
DTSTAMP:20180911T160925Z
SUMMARY:Soccer Home vs. Big Hollow
LOCATION:Grass Lake School
URL;VALUE=URI:https://www.gls36.org/calendar/1836998/soccer-home-vs-big-hol
 low
DTSTART:20180911T210000Z
DTEND:20180911T220000Z
END:VEVENT
END:VCALENDAR
