BEGIN:VCALENDAR
VERSION:2.0
PRODID:SchoolNow
CALSCALE:GREGORIAN
BEGIN:VEVENT
UID:3a37caf4-a4b3-11e8-8bb9-0a3b117d41d6
DTSTAMP:20180828T212357Z
SUMMARY:1st Day of Soccer\, Cross Country & Volleyball Practice
URL;VALUE=URI:https://www.gls36.org/calendar/1836993/1st-day-of-soccer-voll
 eyball-practice
DTSTART:20180904T194500Z
DTEND:20180904T213000Z
END:VEVENT
END:VCALENDAR
