BEGIN:VCALENDAR
VERSION:2.0
PRODID:SchoolNow
CALSCALE:GREGORIAN
BEGIN:VEVENT
UID:b5c3cf52-a4b2-11e8-9efe-0ae81e45a8ec
DTSTAMP:20180820T195329Z
SUMMARY:ALL Athlete & Parent Meeting.  Baseline Concussion Testing
URL;VALUE=URI:https://www.gls36.org/calendar/1836990/all-athlete-parent-mee
 ting-baseline-concussion-testing
DTSTART:20180829T230000Z
DTEND:20180830T000000Z
END:VEVENT
END:VCALENDAR
