BEGIN:VCALENDAR
VERSION:2.0
PRODID:SchoolNow
CALSCALE:GREGORIAN
BEGIN:VEVENT
UID:35234afa-9b2d-11e8-b3b5-12d2c4690f08
DTSTAMP:20180808T170715Z
SUMMARY:PTO 2018-2019 Kickoff Meeting!
DESCRIPTION:Come meet the NEW PTO Officers!
LOCATION:GLS Multi-Purpose Room
URL;VALUE=URI:https://www.gls36.org/calendar/1822068/2018-2019-kickoff-meet
 ing
DTSTART:20180815T233000Z
DTEND:20180816T010200Z
END:VEVENT
END:VCALENDAR
