BEGIN:VCALENDAR
VERSION:2.0
PRODID:SchoolNow
CALSCALE:GREGORIAN
BEGIN:VEVENT
UID:a79a331e-9a51-11e8-bf84-0ad92053824a
DTSTAMP:20180807T151407Z
SUMMARY:2018 Parent University
DESCRIPTION:Information you can use for the 2018-2019 school year!
URL;VALUE=URI:https://www.gls36.org/calendar/1821370/2018-parent-university
DTSTART:20180814T230000Z
DTEND:20180815T010000Z
END:VEVENT
END:VCALENDAR
