BEGIN:VCALENDAR
VERSION:2.0
PRODID:SchoolNow
CALSCALE:GREGORIAN
BEGIN:VEVENT
UID:3f522e6c-99b4-11e8-9eb5-0a9d921121fa
DTSTAMP:20180822T153623Z
SUMMARY:2018 Pre-Kindergarten Information
DESCRIPTION:PREK Information for the 2018-2019 school year
URL;VALUE=URI:https://www.gls36.org/calendar/1820983/2018-pre-kindergarten-
 information
DTSTART;VALUE=DATE:20180806
DTEND;VALUE=DATE:20180825
END:VEVENT
END:VCALENDAR
