BEGIN:VCALENDAR
VERSION:2.0
PRODID:SchoolNow
CALSCALE:GREGORIAN
BEGIN:VEVENT
UID:5782a25a-950e-11e8-ab37-0a10ed5da39a
DTSTAMP:20180731T220906Z
SUMMARY:Special Meeting of the Board of Education
URL;VALUE=URI:https://www.gls36.org/calendar/1817016/special-meeting-of-the
 -board-of-education
DTSTART:20180724T230000Z
DTEND:20180725T020000Z
END:VEVENT
END:VCALENDAR
