BEGIN:VCALENDAR
VERSION:2.0
PRODID:SchoolNow
CALSCALE:GREGORIAN
BEGIN:VEVENT
UID:4f0030fc-950e-11e8-a478-0a10ed5da39a
DTSTAMP:20180731T220953Z
SUMMARY:Special meeting of the Board of Education
DESCRIPTION:The Board of Education will hold a special meeting to present t
 he tentative budget and hire personnel
LOCATION:Grass Lake School Multi-Purpose room
URL;VALUE=URI:https://www.gls36.org/calendar/1817015/special-meeting-of-the
 -board-of-education
DTSTART:20180807T233000Z
DTEND:20180808T030000Z
END:VEVENT
END:VCALENDAR
