BEGIN:VCALENDAR
VERSION:2.0
PRODID:SchoolNow
CALSCALE:GREGORIAN
BEGIN:VEVENT
UID:28894a48-8a9c-11e8-ba6b-12a2065e53c4
DTSTAMP:20180718T150633Z
SUMMARY:Special Meeting of the Board of Education
URL;VALUE=URI:https://www.gls36.org/calendar/1809011/special-meeting-of-the
 -board-of-education
DTSTART:20180724T220000Z
DTEND:20180725T010000Z
END:VEVENT
END:VCALENDAR
