BEGIN:VCALENDAR
VERSION:2.0
PRODID:SchoolNow
CALSCALE:GREGORIAN
BEGIN:VEVENT
UID:81101eb4-85ef-11e8-bcca-0a8bc3c5cdf0
DTSTAMP:20180712T162034Z
SUMMARY:Board of Education meeting
LOCATION:Grass Lake School District Multi-Purpose room
URL;VALUE=URI:https://www.gls36.org/calendar/1807894/board-of-education-mee
 ting
DTSTART:20181121T003000Z
DTEND:20181121T040000Z
END:VEVENT
END:VCALENDAR
