BEGIN:VCALENDAR
VERSION:2.0
PRODID:SchoolNow
CALSCALE:GREGORIAN
BEGIN:VEVENT
UID:3638f3e8-85ef-11e8-b358-0af70134ed6c
DTSTAMP:20180712T161828Z
SUMMARY:Board of Education meeting
LOCATION:Grass Lake School District Multi-Purpose room
URL;VALUE=URI:https://www.gls36.org/calendar/1807893/board-of-education-mee
 ting
DTSTART:20181016T233000Z
DTEND:20181017T030000Z
END:VEVENT
END:VCALENDAR
