BEGIN:VCALENDAR
VERSION:2.0
PRODID:SchoolNow
CALSCALE:GREGORIAN
BEGIN:VEVENT
UID:e2ce6daa-85ee-11e8-a16f-12f0eb3d315e
DTSTAMP:20180712T161608Z
SUMMARY:Board of Education meeting
LOCATION:Grass Lake School District Multi-Purpose room
URL;VALUE=URI:https://www.gls36.org/calendar/1807892/board-of-education-mee
 ting
DTSTART:20180918T233000Z
DTEND:20180919T030000Z
END:VEVENT
END:VCALENDAR
