BEGIN:VCALENDAR
VERSION:2.0
PRODID:SchoolNow
CALSCALE:GREGORIAN
BEGIN:VEVENT
UID:be14a6a6-85ed-11e8-894d-0a6d10541022
DTSTAMP:20180712T160757Z
SUMMARY:Board of Education meeting
LOCATION:Grass Lake School District Multi-Purpose room
URL;VALUE=URI:https://www.gls36.org/calendar/1807891/board-of-education-mee
 ting
DTSTART:20180821T233000Z
DTEND:20180822T030000Z
END:VEVENT
END:VCALENDAR
