BEGIN:VCALENDAR
VERSION:2.0
PRODID:SchoolNow
CALSCALE:GREGORIAN
BEGIN:VEVENT
UID:17d8722c-85ed-11e8-a2e3-0a6d10541022
DTSTAMP:20180712T160318Z
SUMMARY:Board of Education meeting
LOCATION:Grass Lake School District Multi-Purpose room
URL;VALUE=URI:https://www.gls36.org/calendar/1807858/board-of-education-mee
 ting
DTSTART:20180717T233000Z
DTEND:20180718T030000Z
END:VEVENT
END:VCALENDAR
