BEGIN:VCALENDAR
VERSION:2.0
PRODID:SchoolNow
CALSCALE:GREGORIAN
BEGIN:VEVENT
UID:e40f8640-5eed-11e8-bb13-12dc17ca6136
DTSTAMP:20180524T010046Z
SUMMARY:All School Picture Day
URL;VALUE=URI:https://www.gls36.org/calendar/1785802/all-school-picture-day
DTSTART:20180601T005900Z
DTEND:20180601T015900Z
END:VEVENT
END:VCALENDAR
