BEGIN:VCALENDAR
VERSION:2.0
PRODID:SchoolNow
CALSCALE:GREGORIAN
BEGIN:VEVENT
UID:8e0d412e-5eed-11e8-adb2-121263d017ee
DTSTAMP:20180524T005821Z
SUMMARY:K-7 Grade Electronic Device Turn In
URL;VALUE=URI:https://www.gls36.org/calendar/1785801/k-7-grade-electronic-d
 evice-turn-in
DTSTART;VALUE=DATE:20180529
DTEND;VALUE=DATE:20180530
END:VEVENT
END:VCALENDAR
