BEGIN:VCALENDAR
VERSION:2.0
PRODID:SchoolNow
CALSCALE:GREGORIAN
BEGIN:VEVENT
UID:1340c876-5eed-11e8-8f22-0a85fcccea82
DTSTAMP:20180524T005856Z
SUMMARY:8th Grade Electronic Device Turn -In
URL;VALUE=URI:https://www.gls36.org/calendar/1785800/8th-grade-electronic-d
 evice-turn-in
DTSTART;VALUE=DATE:20180524
DTEND;VALUE=DATE:20180525
END:VEVENT
END:VCALENDAR
