BEGIN:VCALENDAR
VERSION:2.0
PRODID:SchoolNow
CALSCALE:GREGORIAN
BEGIN:VEVENT
UID:267a5c1c-59e9-11e8-80cc-0a593bc07c4c
DTSTAMP:20180821T135608Z
SUMMARY:First Day of School 2018-2019
URL;VALUE=URI:https://www.gls36.org/calendar/1781457/first-day-of-school-20
 18-2019
DTSTART:20180823T124500Z
DTEND:20180823T180000Z
END:VEVENT
END:VCALENDAR
