BEGIN:VCALENDAR
VERSION:2.0
PRODID:SchoolNow
CALSCALE:GREGORIAN
BEGIN:VEVENT
UID:e8fc85dc-59e2-11e8-84a7-0a8dda98d9b0
DTSTAMP:20180517T145934Z
SUMMARY:Columbus Day Holiday - No School
URL;VALUE=URI:https://www.gls36.org/calendar/1780830/columbus-day-holiday-n
 o-school
DTSTART:20181008T124500Z
DTEND:20181008T194500Z
END:VEVENT
END:VCALENDAR
