BEGIN:VCALENDAR
VERSION:2.0
PRODID:SchoolNow
CALSCALE:GREGORIAN
BEGIN:VEVENT
UID:c2922226-59e2-11e8-85f9-0a8dda98d9b0
DTSTAMP:20180517T145829Z
SUMMARY:Teacher's Institute Day - No School
URL;VALUE=URI:https://www.gls36.org/calendar/1780829/teachers-institute-day
 -no-school
DTSTART:20181005T124500Z
DTEND:20181005T201500Z
END:VEVENT
END:VCALENDAR
