BEGIN:VCALENDAR
VERSION:2.0
PRODID:SchoolNow
CALSCALE:GREGORIAN
BEGIN:VEVENT
UID:8c7147a8-59e2-11e8-9f03-0a56b5505934
DTSTAMP:20180904T152712Z
SUMMARY:Curriculum Night
URL;VALUE=URI:https://www.gls36.org/calendar/1780827/curriculum-night
DTSTART:20180906T230000Z
DTEND:20180907T010000Z
END:VEVENT
END:VCALENDAR
