BEGIN:VCALENDAR
VERSION:2.0
PRODID:SchoolNow
CALSCALE:GREGORIAN
BEGIN:VEVENT
UID:43bbdea6-59e2-11e8-980b-120e6adb5b50
DTSTAMP:20180517T145456Z
SUMMARY:Not in Attendance Day for Students
URL;VALUE=URI:https://www.gls36.org/calendar/1780826/not-in-attendance-day-
 for-students
DTSTART:20180822T124500Z
DTEND:20180822T201500Z
END:VEVENT
END:VCALENDAR
