BEGIN:VCALENDAR
VERSION:2.0
PRODID:SchoolNow
CALSCALE:GREGORIAN
BEGIN:VEVENT
UID:951718c0-59e1-11e8-a6fd-0a8dda98d9b0
DTSTAMP:20180517T145003Z
SUMMARY:Teacher's Institute Day - No School
URL;VALUE=URI:https://www.gls36.org/calendar/1780825/teachers-institute-day
 -no-school
DTSTART:20180821T124500Z
DTEND:20180821T201500Z
END:VEVENT
END:VCALENDAR
