BEGIN:VCALENDAR
VERSION:2.0
PRODID:SchoolNow
CALSCALE:GREGORIAN
BEGIN:VEVENT
UID:70a679ea-59e1-11e8-9a5d-0a8dda98d9b0
DTSTAMP:20180517T144902Z
SUMMARY:Teacher's Institute Day - No School
URL;VALUE=URI:https://www.gls36.org/calendar/1780824/teachers-institute-day
 -no-school
DTSTART:20180820T124500Z
DTEND:20180820T201500Z
END:VEVENT
END:VCALENDAR
