BEGIN:VCALENDAR
VERSION:2.0
PRODID:SchoolNow
CALSCALE:GREGORIAN
BEGIN:VEVENT
UID:358a4192-591f-11e8-b7a1-0ab40a07076a
DTSTAMP:20180516T153841Z
SUMMARY:Kindergarten Year End Celebration
URL;VALUE=URI:https://www.gls36.org/calendar/1777843/kindergarten-year-end-
 celebration
DTSTART:20180601T124500Z
DTEND:20180601T160000Z
END:VEVENT
END:VCALENDAR
