BEGIN:VCALENDAR
VERSION:2.0
PRODID:SchoolNow
CALSCALE:GREGORIAN
BEGIN:VEVENT
UID:cdba3d92-591e-11e8-afa9-0ade4cb74fa6
DTSTAMP:20180516T154128Z
SUMMARY:PK Last Day for PM Class
URL;VALUE=URI:https://www.gls36.org/calendar/1777842/pk-pm-last-day
DTSTART:20180601T143000Z
DTEND:20180601T153000Z
END:VEVENT
END:VCALENDAR
