BEGIN:VCALENDAR
VERSION:2.0
PRODID:SchoolNow
CALSCALE:GREGORIAN
BEGIN:VEVENT
UID:76f2fb98-591e-11e8-9315-12277091c3da
DTSTAMP:20180516T153321Z
SUMMARY:PreK Last Day for AM Class
URL;VALUE=URI:https://www.gls36.org/calendar/1777841/prek-last-day-for-am-c
 lass
DTSTART:20180531T140000Z
DTEND:20180531T163000Z
END:VEVENT
END:VCALENDAR
