BEGIN:VCALENDAR
VERSION:2.0
PRODID:SchoolNow
CALSCALE:GREGORIAN
BEGIN:VEVENT
UID:daf7a490-5842-11e8-a11f-124f62af86c4
DTSTAMP:20180515T132119Z
SUMMARY:Last Day of AM or PM tutoring
URL;VALUE=URI:https://www.gls36.org/calendar/1777495/last-day-of-am-or-pm-t
 utoring
DTSTART:20180529T120000Z
DTEND:20180529T213000Z
END:VEVENT
END:VCALENDAR
