BEGIN:VCALENDAR
VERSION:2.0
PRODID:SchoolNow
CALSCALE:GREGORIAN
BEGIN:VEVENT
UID:725ad13c-5842-11e8-81ed-126594fc1244
DTSTAMP:20180515T131824Z
SUMMARY:K-2nd grade Field Trip
LOCATION:Racine\, WI
URL;VALUE=URI:https://www.gls36.org/calendar/1777494/k-2nd-grade-field-trip
DTSTART:20180530T125000Z
DTEND:20180515T194500Z
END:VEVENT
END:VCALENDAR
