BEGIN:VCALENDAR
VERSION:2.0
PRODID:SchoolNow
CALSCALE:GREGORIAN
BEGIN:VEVENT
UID:ad1c5932-552a-11e8-a7a5-0a18d2ea33be
DTSTAMP:20180511T145237Z
SUMMARY:Finance Committee meeting
DESCRIPTION:The Finance Committee will meet to review a preliminary budget
LOCATION:Grass Lake School
URL;VALUE=URI:https://www.gls36.org/calendar/1777079/finance-committee-meet
 ing
DTSTART:20180613T233000Z
DTEND:20180614T030000Z
END:VEVENT
END:VCALENDAR
