BEGIN:VCALENDAR
VERSION:2.0
PRODID:SchoolNow
CALSCALE:GREGORIAN
BEGIN:VEVENT
UID:284860d0-4e26-11e8-aa94-1229eeaa3ede
DTSTAMP:20180507T154628Z
SUMMARY:GLS Annual Garden Activity Day & Plant Sale
URL;VALUE=URI:https://www.gls36.org/calendar/1772776/gls-annual-garden-acti
 vity-day-plant-sale
DTSTART:20180512T140000Z
DTEND:20180512T180000Z
END:VEVENT
END:VCALENDAR
