BEGIN:VCALENDAR
VERSION:2.0
PRODID:SchoolNow
CALSCALE:GREGORIAN
BEGIN:VEVENT
UID:547e5760-4d52-11e8-9a61-0a92bc398b2c
DTSTAMP:20180501T151423Z
SUMMARY:Elementary Jump Rope 4 Heart Event-During PE time
URL;VALUE=URI:https://www.gls36.org/calendar/1772239/elementary-jump-rope-4
 -heart-eventduring-pe-time
DTSTART:20180508T140000Z
DTEND:20180508T150000Z
END:VEVENT
END:VCALENDAR
