BEGIN:VCALENDAR
VERSION:2.0
PRODID:SchoolNow
CALSCALE:GREGORIAN
BEGIN:VEVENT
UID:496a6b0c-4d52-11e8-a42c-0a92bc398b2c
DTSTAMP:20180501T151404Z
SUMMARY:2nd Annual Jump Rope 4 Heart Dodgeball Tournament-After School Even
 t
URL;VALUE=URI:https://www.gls36.org/calendar/1772238/2nd-annual-jump-rope-4
 -heart-dodgeball-tournamentafter-school-event
DTSTART:20180507T194500Z
DTEND:20180507T213000Z
END:VEVENT
END:VCALENDAR
