BEGIN:VCALENDAR
VERSION:2.0
PRODID:SchoolNow
CALSCALE:GREGORIAN
BEGIN:VEVENT
UID:67b96872-4962-11e8-a528-0aed84a8787c
DTSTAMP:20180515T132225Z
SUMMARY:Ribbon Cutting Ceremony
LOCATION:Entrance of New Addition
URL;VALUE=URI:https://www.gls36.org/calendar/1770320/ribbon-cutting-ceremon
 y
DTSTART:20180524T160000Z
DTEND:20180524T170000Z
END:VEVENT
END:VCALENDAR
