BEGIN:VCALENDAR
VERSION:2.0
PRODID:SchoolNow
CALSCALE:GREGORIAN
BEGIN:VEVENT
UID:3b48d108-4960-11e8-bedd-0a8524e3b874
DTSTAMP:20180426T144503Z
SUMMARY:6th Grade Field Trip
URL;VALUE=URI:https://www.gls36.org/calendar/1770286/6th-grade-field-trip
DTSTART:20180517T020900Z
DTEND:20180426T193000Z
END:VEVENT
END:VCALENDAR
