BEGIN:VCALENDAR
VERSION:2.0
PRODID:SchoolNow
CALSCALE:GREGORIAN
BEGIN:VEVENT
UID:86b85322-47bf-11e8-bdfd-0a8356f56c92
DTSTAMP:20180424T130055Z
SUMMARY:PTO Meeting MPR 7PM
URL;VALUE=URI:https://www.gls36.org/calendar/1769574/pto-meeting-mpr-7pm
DTSTART:20180508T000000Z
DTEND:20180508T010000Z
END:VEVENT
END:VCALENDAR
