BEGIN:VCALENDAR
VERSION:2.0
PRODID:SchoolNow
CALSCALE:GREGORIAN
BEGIN:VEVENT
UID:ce0d34ae-3e73-11e8-bede-0ac564b8039c
DTSTAMP:20180412T170832Z
SUMMARY:State Track Meet
URL;VALUE=URI:https://www.gls36.org/calendar/1764531/state-track-meet-clone
DTSTART;VALUE=DATE:20180512
DTEND;VALUE=DATE:20180513
END:VEVENT
END:VCALENDAR
