BEGIN:VCALENDAR
VERSION:2.0
PRODID:SchoolNow
CALSCALE:GREGORIAN
BEGIN:VEVENT
UID:b63c4810-3e73-11e8-b2ec-0ac564b8039c
DTSTAMP:20180412T170915Z
SUMMARY:State Track Meet
URL;VALUE=URI:https://www.gls36.org/calendar/1764529/state-track-meet
DTSTART;VALUE=DATE:20180511
DTEND;VALUE=DATE:20180512
END:VEVENT
END:VCALENDAR
