BEGIN:VCALENDAR
VERSION:2.0
PRODID:SchoolNow
CALSCALE:GREGORIAN
BEGIN:VEVENT
UID:7a48a54c-3e73-11e8-a1a1-0a2e6afbe4d6
DTSTAMP:20180412T170352Z
SUMMARY:Alden Hebron Track Meet
URL;VALUE=URI:https://www.gls36.org/calendar/1764527/alden-hebron-track-mee
 t
DTSTART:20180508T210000Z
DTEND:20180412T180200Z
END:VEVENT
END:VCALENDAR
