BEGIN:VCALENDAR
VERSION:2.0
PRODID:SchoolNow
CALSCALE:GREGORIAN
BEGIN:VEVENT
UID:4fabeeca-3e73-11e8-beb9-0a2e6afbe4d6
DTSTAMP:20180412T170241Z
SUMMARY:Sectionals at Grant Community HS
URL;VALUE=URI:https://www.gls36.org/calendar/1764525/sectionals-at-grant-co
 mmunity-hs
DTSTART:20180505T130000Z
DTEND:20180412T180100Z
END:VEVENT
END:VCALENDAR
