BEGIN:VCALENDAR
VERSION:2.0
PRODID:SchoolNow
CALSCALE:GREGORIAN
BEGIN:VEVENT
UID:b02d5678-2d3c-11e8-88d6-0af55da96be8
DTSTAMP:20180321T191851Z
SUMMARY:Teacher Appreciation Week
URL;VALUE=URI:https://www.gls36.org/calendar/1740710/teacher-appreciation-w
 eek
DTSTART:20180507T124500Z
DTEND:20180511T194500Z
END:VEVENT
END:VCALENDAR
