BEGIN:VCALENDAR
VERSION:2.0
PRODID:SchoolNow
CALSCALE:GREGORIAN
BEGIN:VEVENT
UID:a90c4582-2b7c-11e8-8611-1299b8291ae8
DTSTAMP:20180423T194933Z
SUMMARY:Spring NWEA MAP Testing Grades 5 - 8th
URL;VALUE=URI:https://www.gls36.org/calendar/1739392/spring-nwea-map-testin
 g-grades-5th-8th
DTSTART:20180509T124500Z
DTEND:20180509T154300Z
END:VEVENT
END:VCALENDAR
