BEGIN:VCALENDAR
VERSION:2.0
PRODID:SchoolNow
CALSCALE:GREGORIAN
BEGIN:VEVENT
UID:54e9ca38-2b7c-11e8-a486-129434b6b42e
DTSTAMP:20180319T140338Z
SUMMARY:Spring NWEA MAP Testing Grades K-4th
URL;VALUE=URI:https://www.gls36.org/calendar/1739391/spring-nwea-map-testin
 g-grades-k4th
DTSTART:20180516T124500Z
DTEND:20180516T164300Z
END:VEVENT
END:VCALENDAR
