BEGIN:VCALENDAR
VERSION:2.0
PRODID:SchoolNow
CALSCALE:GREGORIAN
BEGIN:VEVENT
UID:291aea90-2b7c-11e8-b6c4-129434b6b42e
DTSTAMP:20180319T140318Z
SUMMARY:Spring NWEA MAP Testing Grades K-4th
URL;VALUE=URI:https://www.gls36.org/calendar/1739390/spring-nwea-map-testin
 g-grades-k4th
DTSTART:20180515T124500Z
DTEND:20180515T164300Z
END:VEVENT
END:VCALENDAR
